BEGIN:VCALENDAR
VERSION:2.0
X-WR-CALNAME:EventsCalendar
BEGIN:VEVENT
CATEGORIES:Event Category,Workshops,Event Type,Information Session,Audience,Students
DESCRIPTION:Explore methods, and gain resources for finding, selecting, and landing internships. Register to join.99918 Internships, Workshops
DTSTAMP:20260423T075924
DTSTART:20250616T150000
DTEND:20250616T160000
LOCATION:Online
SUMMARY;LANGUAGE=en-us:Land your Internship !
UID:8ec02627d09bcffdd445f0007e27d246@lehman.edu
END:VEVENT
END:VCALENDAR
