BEGIN:VCALENDAR
VERSION:2.0
X-WR-CALNAME:EventsCalendar
BEGIN:VEVENT
CATEGORIES:Event Category,Arts &amp; Culture,Event Category,CUNY,Event Category,Community,Event Category,Lectures,Event Category,Visual Arts,Event Type,Information Session,Event Type,Lectures,Schools,School of Education,Audience,Faculty,Audience,Graduate Students,Audience,Staff,Audience,Students,Audience,Transfer Students,Featured,Yes
DESCRIPTION:Join us tor an immersive experience where art serves as a catalyst for justice, healing, and education. Through creative expression, we will explore how restorative approaches promote human rights, transform conflict, and strengthen communities. Participants will engage in a social justice-based painting session or community based sewing activity. Guest Speakers: Maria HantzopoulosAuthor of Educating for Peace and Human RightsFree limited book copies will be available Becky BaumwollNYC based artist and educator Hot lunch will be served.96457 Maria Hantzopoulos, Becky Baumwoll, Human Rights Education, Art, Justice, Healing
DTSTAMP:20260423T073719
DTSTART:20250424T093000
DTEND:20250424T150000
LOCATION:Music Building
SUMMARY;LANGUAGE=en-us:Art for Justice: Restorative Approaches to Human Rights Education
UID:e8ffbbbe07930ca4e26f7323ad4cd6bb@lehman.edu
END:VEVENT
END:VCALENDAR
