BEGIN:VCALENDAR
VERSION:2.0
X-WR-CALNAME:EventsCalendar
BEGIN:VEVENT
CATEGORIES:Event Category,Concerts,Event Category,Performing Arts &amp; Film,Event Type,Concert,Audience,Alumni,Audience,Faculty,Audience,Staff,Audience,Students,Audience,Visitors
DESCRIPTION:Students get TWO FREE tickets with your Lehman ID Faculty, and Staff are entitled to 50% off with valid Lehman ID. Must come to the box office to get the deal.   The Platters Former Lead singer Frank Pizarro &amp;ldquo;The Great Pretender&amp;rdquo; &amp;ldquo;Only You&amp;rdquo;, &amp;ldquo;Smoke Gets In Your Eyes&amp;rdquo;, &amp;ldquo;My Prayer&amp;rdquo;, &amp;ldquo;Twilight Time&amp;rdquo;&amp;nbsp;   Clyde McPhatter&amp;rsquo;s Drifters Featuring Ronn David McPhatter &amp;ldquo;Under The Boardwalk&amp;rdquo;, &amp;ldquo;This Magic Moment&amp;rdquo;, &amp;ldquo;Up On The Roof&amp;rdquo;, On Broadway&amp;rdquo;&amp;nbsp;   The Coasters &amp;ldquo;Charlie Brown&amp;rdquo;, &amp;ldquo;Yakaty Yak&amp;rdquo;, &amp;ldquo;Poison Ivy&amp;rdquo;, &amp;ldquo;Youngblood&amp;rdquo;, &amp;ldquo;Smokey Joes Caf&amp;eacute;&amp;rdquo; Jay Siegel&amp;rsquo;s Tokens &amp;ldquo;The Lion Sleeps Tonight&amp;rdquo;, &amp;ldquo;Tonight I Fell In Love&amp;rdquo;, &amp;ldquo;Portrait of My Love&amp;rdquo; Bill Haley Jr&amp;rsquo;s Comets &amp;ldquo;Rock Around The Clock&amp;rdquo;, &amp;ldquo;See You Later Alligator&amp;rdquo;, &amp;ldquo;Shake Rattle &amp;amp; Roll&amp;rdquo;&amp;nbsp;   Bobby Wilson tributes his Dad Jackie Wilson &amp;ldquo;Lonely Teardrops&amp;rdquo;, &amp;ldquo;Higher &amp;amp; Higher&amp;rdquo;, &amp;ldquo;To Be Loved&amp;rdquo;, &amp;ldquo;Baby Work Out&amp;rdquo;&amp;nbsp;   The Chiclettes tribute the female artists through the decades. ( The Crystals, The Shirelles, The Supremes, Dionne Warwick, Aretha Franklin, Tina Turner, etc)&amp;nbsp;   Hosted By CBS 101.1FM Brooklyn&amp;rsquo;s Own Joe Causi And From Fever Records Sal Abbatiello Music By From ABC Radio Vinnie Medugno and his Tribute to Gene Pitney Doors Open @ 4:00pm Performances Start @ 5:00pm. For More Information Call Fever: 914-725-0011 &amp;nbsp;94971 concert, doo wop, live music, bronx
DTSTAMP:20260425T081353
DTSTART:20250518T170000
DTEND:20250518T200000
LOCATION:Concert Hall
SUMMARY;LANGUAGE=en-us:Golden Oldies: Doo Wop Returns to Lehman!
UID:60a6acc89c93150d6b5cd778253f0baa@lehman.edu
END:VEVENT
END:VCALENDAR
