BEGIN:VCALENDAR
VERSION:2.0
X-WR-CALNAME:EventsCalendar
BEGIN:VEVENT
CATEGORIES:Event Category,Arts &amp; Culture,Event Category,DEI,Event Category,Lectures,Event Category,Lehman Community,Event Category,Special Event,Event Type,Lectures,Schools,School of Arts &amp; Humanities,Audience,Alumni,Audience,Faculty,Audience,Friend of Lehman,Audience,Graduate Students,Audience,Students,Featured,Yes
DESCRIPTION:Prof. Lewis Gordon, Distinguished Professor of Philosophy and Global Affairs at the University of Connecticut, will give a talk on &quot;Frantz Fanon and Malcolm X at 100&quot; on Tuesday, Feb. 25, at 1:30 p.m., in the room MU-306, as part of Black History Month.&amp;nbsp; Free and open to all &amp;nbsp;92850 Lewis Gordon; Frantz Fanon; Malcolm X; Africana Studies; Black History Month
DTSTAMP:20260423T081109
DTSTART:20250225T133000
DTEND:20250225T153000
LOCATION:Speech &amp;amp; Theatre Building
SUMMARY;LANGUAGE=en-us:Prof. Lewis Gordon on &amp;quot;Frantz Fanon and Malcolm X at 100&amp;quot;
UID:2540aafeafdf04475837a681cb155ed3@lehman.edu
END:VEVENT
END:VCALENDAR
