BEGIN:VCALENDAR
VERSION:2.0
X-WR-CALNAME:EventsCalendar
BEGIN:VEVENT
CATEGORIES:Event Category,Journalism,Event Category,Lectures,Event Category,Library,Event Category,Live Events,Event Category,Special Event,Event Type,Lectures,Schools,School of Arts &amp; Humanities,Audience,Faculty,Audience,Students,Featured,Yes
DESCRIPTION:Peter S. Goodman, The New York Times Global Economic Correspondent, will speak about what today&#039;s global supply chain tells us about business leadership and the ethics of globalization.&amp;nbsp;92518 Globalization; Human Rights; Peace Studies; New York Times; Economics; Global Supply Chain; Lehman College
DTSTAMP:20260423T075916
DTSTART:20250210T140000
DTEND:20250210T150000
LOCATION:Library- LI
SUMMARY;LANGUAGE=en-us:Is Globalization Over? A discussion with New York Times global economic correspondent Peter S. Goodman.
UID:cc8796fe64b9af8e983dfa65c9334653@lehman.edu
END:VEVENT
END:VCALENDAR
