BEGIN:VCALENDAR
VERSION:2.0
X-WR-CALNAME:EventsCalendar
BEGIN:VEVENT
CATEGORIES:Event Category,Academics,Event Category,CUNY,Event Category,Career Development,Event Type,Lectures,Schools,School of Business,Schools,School of Education,Audience,Students,Featured,Yes
DESCRIPTION:Dr. Amy C. Edmondson is Novartis Professor of Leadership and Management, at Harvard Business School. This talk is jointly organized by the School of Education, the Library, the School of Business, Health Promotion &amp;amp; Nutrition Sciences (HPNS), and CUNY Institute for Health Equity Event will take place in the East Dining Room of the College&#039;s Music Building.86087 &#039;business&#039;
DTSTAMP:20260423T133903
DTSTART:20250424T150000
DTEND:20250424T163000
LOCATION:Music Building
SUMMARY;LANGUAGE=en-us:The Right Kind of Wrong: The Science of Failing Well, A conversation with Dr. Amy Edmondson 
UID:45fecf59fbcb7f6a82a223e4c46aa550@lehman.edu
END:VEVENT
END:VCALENDAR
