BEGIN:VCALENDAR
VERSION:2.0
X-WR-CALNAME:EventsCalendar
BEGIN:VEVENT
CATEGORIES:Event Category,Admissions,Event Category,CUNY,Event Category,General Public,Event Category,Information Session,Event Type,Information Session,Audience,Alumni,Audience,Friend of Lehman,Audience,Graduate Students,Audience,Prospective Students,Audience,Staff,Audience,Students,Audience,Visitors
DESCRIPTION:Our Graduate Information Sessions are designed to highlight the benefits and value of a Lehman College graduate degree and provide prospective applicants with an overview of our graduate programs. &amp;nbsp; &amp;nbsp;Join us to learn more about the application process, tuition costs, and transfer credits. &amp;nbsp; &amp;nbsp;Please note this is a general information session. For program-specific information sessions, visit our events page:  https://www.lehman.cuny.edu/graduate-admissions/program-specific-info-sessions.php&amp;nbsp;77910 information session, graduate studies, graduate school, admissions
DTSTAMP:20260423T070705
DTSTART:20240725T120000
DTEND:20240725T130000
LOCATION:Online
SUMMARY;LANGUAGE=en-us:Graduate Application and Enrollment Roundtable 
UID:dd84a18df9af613928ae0ebb9958492d@lehman.edu
END:VEVENT
END:VCALENDAR
