BEGIN:VCALENDAR
VERSION:2.0
X-WR-CALNAME:EventsCalendar
BEGIN:VEVENT
CATEGORIES:Event Category,Arts &amp; Culture,Event Category,CUNY,Event Category,Multimedia,Event Category,Performing Arts &amp; Film,Event Type,Performing Arts,Schools,School of Arts &amp; Humanities,Audience,Faculty,Audience,Graduate Students,Audience,Staff,Audience,Students,Audience,Transfer Students
DESCRIPTION:The Department of Music, Multimedia, Theatre and Dance presents The 4950 Multimedia Performing Arts Project at Lehman College, featuring exciting new and original multimedia work by Lehman College students.73435 .Lehman College, Arts &amp;amp; Humanities, Performing Arts, Art, Showcase, MMTD
DTSTAMP:20260423T081040
DTSTART:20240508T160000
DTEND:20240508T173000
LOCATION:Speech &amp;amp; Theatre Building
SUMMARY;LANGUAGE=en-us:The Multimedia Performing Arts Showcase 2024
UID:333dddb43cc03bf3c368410622488f04@lehman.edu
END:VEVENT
BEGIN:VEVENT
CATEGORIES:Event Category,Arts &amp; Culture,Event Category,CUNY,Event Category,Multimedia,Event Category,Performing Arts &amp; Film,Event Type,Performing Arts,Schools,School of Arts &amp; Humanities,Audience,Faculty,Audience,Graduate Students,Audience,Staff,Audience,Students,Audience,Transfer Students
DESCRIPTION:The Department of Music, Multimedia, Theatre and Dance presents The 4950 Multimedia Performing Arts Project at Lehman College, featuring exciting new and original multimedia work by Lehman College students.73435 .Lehman College, Arts &amp;amp; Humanities, Performing Arts, Art, Showcase, MMTD
DTSTAMP:20260423T081040
DTSTART:20240509T190000
DTEND:20240509T203000
LOCATION:Speech &amp;amp; Theatre Building
SUMMARY;LANGUAGE=en-us:The Multimedia Performing Arts Showcase 2024
UID:82a59bef4c3f0e4b3baad875577cf424@lehman.edu
END:VEVENT
BEGIN:VEVENT
CATEGORIES:Event Category,Arts &amp; Culture,Event Category,CUNY,Event Category,Multimedia,Event Category,Performing Arts &amp; Film,Event Type,Performing Arts,Schools,School of Arts &amp; Humanities,Audience,Faculty,Audience,Graduate Students,Audience,Staff,Audience,Students,Audience,Transfer Students
DESCRIPTION:The Department of Music, Multimedia, Theatre and Dance presents The 4950 Multimedia Performing Arts Project at Lehman College, featuring exciting new and original multimedia work by Lehman College students.73435 .Lehman College, Arts &amp;amp; Humanities, Performing Arts, Art, Showcase, MMTD
DTSTAMP:20260423T081040
DTSTART:20240510T190000
DTEND:20240510T203000
LOCATION:Speech &amp;amp; Theatre Building
SUMMARY;LANGUAGE=en-us:The Multimedia Performing Arts Showcase 2024
UID:25b64684b8dbdbeeeab189dbb1aa513d@lehman.edu
END:VEVENT
END:VCALENDAR
