BEGIN:VCALENDAR
VERSION:2.0
X-WR-CALNAME:EventsCalendar
BEGIN:VEVENT
CATEGORIES:Event Category,Arts &amp; Culture,Event Category,CUNY,Event Category,Live Events,Event Category,Music,Event Category,Performing Arts &amp; Film,Event Category,Special Event,Event Type,Performing Arts,Audience,Staff,Audience,Students,Audience,Visitors,Featured,Yes
DESCRIPTION:ARRIVAL from Sweden was founded by Vicky Zetterberg in 1995 in Gothenburg, Sweden and very soon became one of the world&amp;rsquo;s most popular and most selling ABBA show bands. Since the start in 1995 the band has toured in 70 countries and has appeared in several TV and radio shows all over the world. Since 2005 ARRIVAL from Sweden has made 86 successful tours in the USA.ARRIVAL from Sweden in the production &amp;rdquo;The Music of ABBA&amp;rdquo; has sold out arenas and venues all over the world since 1995 and is the absolute best and most authentic ABBA show there is. Hits like: Dancing Queen, Mamma Mia, Does Your Mother Know, Take A Chance, SOS, The Winner Takes It All, Super Trouper, Money Money Money, Waterloo, Honey Honey, Fernando, Chiquitita, Knowing Me Knowing You, Thank You For The Music, Lay All Your Love On Me, Gimme Gimme Gimme and many more are delivered with such accuracy that it&amp;rsquo;s hard to believe that it&amp;rsquo;s not the real ABBA on stage.       Download flyer to see a brochure of our upcoming events.        62975 abba, tribute band, swedish music, lehman college, lehman center
DTSTAMP:20260423T081029
DTSTART:20231118T200000
DTEND:20231118T230000
LOCATION:Concert Hall
SUMMARY;LANGUAGE=en-us:Arrival from Sweden: The Music of ABBA
UID:9619c905fa3b163984255013d00f4f7b@lehman.edu
END:VEVENT
END:VCALENDAR
