BEGIN:VCALENDAR
VERSION:2.0
X-WR-CALNAME:EventsCalendar
BEGIN:VEVENT
CATEGORIES:Event Category,Students,Event Type,Community,Schools,School of Continuing &amp; Professional Studies,Audience,Friend of Lehman,Audience,Parents,Audience,Staff,Audience,Students
DESCRIPTION:The Small Business Internship Program Certificate Ceremony will celebrate the Spring 2026 cohort and recognize their successful completion of the program. This private event honors the interns&amp;rsquo; hard work, learning, and contributions throughout the semester. Students interested in a future cohort are encouraged to apply for the Fall program. Undergraduate Lehman students in good academic standing are eligible. Sign up for an info session today to learn more and apply.115551 Internship, Certificate, Ceremony, SBIP, Small Business, Bronx
DTSTAMP:20260423T110301
DTSTART:20260506T000000
DTEND:20260506T235900
LOCATION:CUNY on The Concourse
SUMMARY;LANGUAGE=en-us:The Small Business Internship Program Certificate Ceremony 
UID:d1a5ae7e3eac41d299faa3d74fcfbfa9@lehman.edu
END:VEVENT
END:VCALENDAR
