BEGIN:VCALENDAR
VERSION:2.0
X-WR-CALNAME:EventsCalendar
BEGIN:VEVENT
CATEGORIES:Event Category,Admissions,Event Category,CUNY,Event Category,Information Session,Event Type,Information Session,Schools,School of Health Sciences, Human Services &amp; Nursing,Audience,Alumni,Audience,Faculty,Audience,Graduate Students,Audience,Parents,Audience,Prospective Students,Audience,Staff,Audience,Students,Audience,Transfer Students,Audience,Visitors,Featured,Yes
DESCRIPTION:The Master of Science in Health Services Administration is designed for students to excel in management positions within hospital systems, community-based clinics, non-profit organizations, private healthcare practices, and federal, state, and local government health surveillance and funding agencies. Students will learn to foster organizational health and well-being, improve health outcomes for patients, and enhance community resources115498 Masters of Health Services Administration program, hospital systems, community-based clinics, non-profit organizations, organizational health, well-being, community resources
DTSTAMP:20260423T073408
DTSTART:20260511T190000
DTEND:20260511T200000
LOCATION:Online
SUMMARY;LANGUAGE=en-us:Health Services Administration M.S. Information Session 
UID:0a458cd03edc987b04470a46a4d7c93d@lehman.edu
END:VEVENT
END:VCALENDAR
