BEGIN:VCALENDAR
VERSION:2.0
X-WR-CALNAME:EventsCalendar
BEGIN:VEVENT
CATEGORIES:Event Category,Arts &amp; Culture,Event Category,CUNY,Event Category,Concerts,Event Category,Performing Arts &amp; Film,Event Category,Theatre &amp; Dance,Event Type,Concert,Event Type,Performing Arts,Schools,School of Arts &amp; Humanities,Audience,Alumni,Audience,Faculty,Audience,Friend of Lehman,Audience,Graduate Students,Audience,High School Students,Audience,Parents,Audience,Prospective Students,Audience,Staff,Audience,Students,Audience,Transfer Students,Audience,Visitors,Featured,Yes
DESCRIPTION:Annual Spring Dance Concert featuring student choreography by Silvely Abreu, Leslie Acosta, Hazel Avila, Cece Batista, Charlesse Brown, Keany Deleon, David Guallpa, Shydae Hampton Aaliyah Lingard, Andrew Lipte Cassıdy Maysonet, Cabby Moore, Jillian Polanco, Megan Simmons, Jahnique Stringer, Aamirah West .115356 lehman, dance, concert, performing arts, spring
DTSTAMP:20260423T075916
DTSTART:20260422T160000
DTEND:20260422T180000
LOCATION:Speech &amp;amp; Theatre Building
SUMMARY;LANGUAGE=en-us:Spring Dance Concert 2026
UID:1ce2c2eaac7468829c2cbe872d9eb64d@lehman.edu
END:VEVENT
BEGIN:VEVENT
CATEGORIES:Event Category,Arts &amp; Culture,Event Category,CUNY,Event Category,Concerts,Event Category,Performing Arts &amp; Film,Event Category,Theatre &amp; Dance,Event Type,Concert,Event Type,Performing Arts,Schools,School of Arts &amp; Humanities,Audience,Alumni,Audience,Faculty,Audience,Friend of Lehman,Audience,Graduate Students,Audience,High School Students,Audience,Parents,Audience,Prospective Students,Audience,Staff,Audience,Students,Audience,Transfer Students,Audience,Visitors,Featured,Yes
DESCRIPTION:Annual Spring Dance Concert featuring student choreography by Silvely Abreu, Leslie Acosta, Hazel Avila, Cece Batista, Charlesse Brown, Keany Deleon, David Guallpa, Shydae Hampton Aaliyah Lingard, Andrew Lipte Cassıdy Maysonet, Cabby Moore, Jillian Polanco, Megan Simmons, Jahnique Stringer, Aamirah West .115356 lehman, dance, concert, performing arts, spring
DTSTAMP:20260423T075916
DTSTART:20260423T190000
DTEND:20260423T210000
LOCATION:Speech &amp;amp; Theatre Building
SUMMARY;LANGUAGE=en-us:Spring Dance Concert 2026
UID:643fe631388d650cfbff66060f35d92e@lehman.edu
END:VEVENT
BEGIN:VEVENT
CATEGORIES:Event Category,Arts &amp; Culture,Event Category,CUNY,Event Category,Concerts,Event Category,Performing Arts &amp; Film,Event Category,Theatre &amp; Dance,Event Type,Concert,Event Type,Performing Arts,Schools,School of Arts &amp; Humanities,Audience,Alumni,Audience,Faculty,Audience,Friend of Lehman,Audience,Graduate Students,Audience,High School Students,Audience,Parents,Audience,Prospective Students,Audience,Staff,Audience,Students,Audience,Transfer Students,Audience,Visitors,Featured,Yes
DESCRIPTION:Annual Spring Dance Concert featuring student choreography by Silvely Abreu, Leslie Acosta, Hazel Avila, Cece Batista, Charlesse Brown, Keany Deleon, David Guallpa, Shydae Hampton Aaliyah Lingard, Andrew Lipte Cassıdy Maysonet, Cabby Moore, Jillian Polanco, Megan Simmons, Jahnique Stringer, Aamirah West .115356 lehman, dance, concert, performing arts, spring
DTSTAMP:20260423T075916
DTSTART:20260424T190000
DTEND:20260424T210000
LOCATION:Speech &amp;amp; Theatre Building
SUMMARY;LANGUAGE=en-us:Spring Dance Concert 2026
UID:8d009797bc0570f2e9f5f5b7f7f92fea@lehman.edu
END:VEVENT
END:VCALENDAR
