BEGIN:VCALENDAR
VERSION:2.0
X-WR-CALNAME:EventsCalendar
BEGIN:VEVENT
CATEGORIES:Event Category,Leadership,Event Category,Special Event,Event Category,Students,Event Type,Information Session,Event Type,Reception,Audience,Faculty,Audience,Friend of Lehman,Audience,Staff,Audience,Students,Featured,Yes
DESCRIPTION:Join the Urban Male Leadership Program and CREAR Futuros for the UMLP &amp;amp; CREAR Futuros Induction Ceremony on Wednesday, May 6, 2026, from 6:00 PM &amp;ndash; 8:00 PM in the Faculty Dining Room. This special event celebrates the induction of UMLP Members into the distinguished role of UMLP Ambassadors, recognizing their commitment to leadership, academic excellence, and service. Throughout the evening, UMLP and CREAR Futuros students will be recognized for their academic excellence and community engagement during the Fall 2025 and Spring 2026 semesters at Lehman College. The ceremony will also highlight the significance of the Ambassador distinction, including the presentation of the UMLP Blazer as a symbol of leadership and achievement. Light refreshments will be served as we come together to honor the accomplishments and continued growth of our student leaders. You may scan the following QR code to RSVP: 115337 CREAR Futuros, leadership, ceremony, induction, UMLP, engagement, excellence, recognition, achievement, commitment
DTSTAMP:20260423T094223
DTSTART:20260506T180000
DTEND:20260506T200000
LOCATION:Music Building
SUMMARY;LANGUAGE=en-us:Spring 2026 UMLP and CREAR Futuros Induction Ceremony
UID:aadc2e64e4e459ce7afce9bc04d3f707@lehman.edu
END:VEVENT
END:VCALENDAR
