BEGIN:VCALENDAR
VERSION:2.0
X-WR-CALNAME:EventsCalendar
BEGIN:VEVENT
CATEGORIES:Event Category,Panel Discussions,Event Type,Panel,Audience,Faculty,Audience,Staff,Audience,Students,Featured,Yes
DESCRIPTION:Costa Rican Ambassador to the UN Maritza Chan Valverde comes to Lehman College to mark the 70th session of the UN Commission on the Status of Women (CSW). That March meeting highlighted key priorities around gender equity, economic justice and community well-being. But what do these conversations look like beyond policy spaces? How do they take shape in our communities, on our campuses, and in everyday life? In addition to Ambassador Chan Vaverde, Lehman will also welcome Bertrade Ngo-Ngijol Banoum (Associate Professor of Africana Studies and Women&amp;rsquo;s and Gender Studies at Lehman College). The discussion will be moderated by Teresita Levy, Associate Provost for Experiential Learning and Executive Director for Industry Partnerships at Lehman College.&amp;nbsp; Together, they will discuss how gender equity priorities are taking shape in tangible, community-driven ways, connecting global ideas to action in our neighborhoods and on our campuses. Topics include:  What gender equity looks like in practice Where gaps still exist and how communities are responding How students can engage with these issues in meaningful ways and help carry the CSW&amp;rsquo;s mission forward 115284 UN, Commission on the Status of Women (CSW) , panel discussions, gender equity, economic justice, community well-being
DTSTAMP:20260423T075915
DTSTART:20260423T120000
DTEND:20260423T133000
LOCATION:Speech &amp;amp; Theatre Building
SUMMARY;LANGUAGE=en-us:UN Commission on the Status of Women Panel Discussion: From Policy to Practice: Gender Equity on the Ground
UID:329345578c14c626423002fbd92c33f5@lehman.edu
END:VEVENT
END:VCALENDAR
