BEGIN:VCALENDAR
VERSION:2.0
X-WR-CALNAME:EventsCalendar
BEGIN:VEVENT
CATEGORIES:Event Category,Community,Event Category,Free course,Event Category,Students,Event Category,Training,Event Type,Community,Audience,Faculty,Audience,Graduate Students,Audience,Staff,Audience,Students,Audience,Transfer Students,Featured,Yes
DESCRIPTION:  Get hands-on CPR &amp;amp; First Aid skills at Lehman College&amp;mdash;save lives and have fun learning in person!     Join us at Lehman College for a&amp;nbsp;FREE CPR &amp;amp; First Aid Certification Training&amp;mdash;an opportunity to gain lifesaving skills at no cost. Whether you&#039;re a student, staff member, or community resident, this hands-on training will prepare you to respond confidently in emergencies. Bonus:&amp;nbsp;Enjoy&amp;nbsp;free food and refreshments&amp;nbsp;while you learn. Come build skills that save lives&amp;mdash;at no cost to you. This event is sponsored by the Office of the President and led jointly by Lehman and CUNY Public Safety divisions. Please note this training does not meet the course requirement for Healthcare students.&amp;nbsp;  114911 cpr, first aid, training, free, save a life
DTSTAMP:20260423T080048
DTSTART:20260420T100000
DTEND:20260420T170000
LOCATION:Music Building
SUMMARY;LANGUAGE=en-us:Lehman College presents CPR/ First Aid Training!
UID:e46b33be608aa637049958e7d010b1ee@lehman.edu
END:VEVENT
END:VCALENDAR
