BEGIN:VCALENDAR
VERSION:2.0
X-WR-CALNAME:EventsCalendar
BEGIN:VEVENT
CATEGORIES:Event Category,Information Session,Event Type,Information Session,Audience,Alumni,Audience,Students,Featured,Yes
DESCRIPTION:Not sure where life will take you after graduation? We welcome you to join our panel discussion to hear about the career journeys in different fields from our recent Lehman alumni.&amp;nbsp; To register, scan the QR Code below to register or log into www.handshake.com.&amp;nbsp; 114803 Alumni, Panel, Discussion
DTSTAMP:20260423T070751
DTSTART:20260422T160000
DTEND:20260422T170000
LOCATION:Online
SUMMARY;LANGUAGE=en-us:What Did I Do With My Degree
UID:bde0da353f31c97121bce516fa03aabf@lehman.edu
END:VEVENT
END:VCALENDAR
