BEGIN:VCALENDAR
VERSION:2.0
X-WR-CALNAME:EventsCalendar
BEGIN:VEVENT
CATEGORIES:Event Category,Academics,Event Category,CUNY,Event Category,Community,Event Category,Faculty,Event Category,Information Session,Event Category,Lehman Community,Event Category,Special Event,Event Category,Staff,Event Category,Students,Event Type,Community,Event Type,Reception,Audience,Alumni,Audience,Faculty,Audience,Friend of Lehman,Audience,Graduate Students,Audience,Staff,Audience,Students,Audience,Transfer Students,Featured,Yes
DESCRIPTION:The Academic Programs &amp;amp; Educational Effectiveness &amp;amp; The Provost&#039;s Office will be hosting an open forum presentation by the Middle States Commission on Higher Education Vice President, Dr. Feith. This is an opportunity for the campus community to learn more about the accreditation process directly from VP Feith. The session will provide an overview of our accreditation process and allow for campus engagement. We encourage all members of the campus community to attend and participate.113588 Accreditaion Middle States MSCHE Student Success
DTSTAMP:20260423T080024
DTSTART:20260323T140000
DTEND:20260323T150000
LOCATION:Music Building
SUMMARY;LANGUAGE=en-us:Open Forum Middle States Vice President Dr. Feith
UID:9589bd0b21b86748fc18156d0640633c@lehman.edu
END:VEVENT
END:VCALENDAR
