BEGIN:VCALENDAR
VERSION:2.0
X-WR-CALNAME:EventsCalendar
BEGIN:VEVENT
CATEGORIES:Event Category,Community,Event Category,Counseling,Event Category,Student Services,Event Type,Community,Schools,School of Continuing &amp; Professional Studies,Audience,Friend of Lehman,Audience,Parents,Audience,Prospective Students,Audience,Staff,Audience,Students,Audience,Visitors,Featured,Yes
DESCRIPTION:Need help filing? We offer free, reliable tax services for everyone! Get your Tax Return prepared for FREE by IRS certified preparers! Who: Anyone below the Income LimitWhere: 2501 Grand Concourse, 3rd Floor, Bronx, NYWhen: Every Saturday from March 1st to April 4thTime: 11:00 AM to 3:30 PM No appointment necessary first come,first served!  What to bring:Original Social Security card(s)Original Picture IDTax documents (W-2, 1099s, 1098-T, etc.) Income Limits:Less than $69,000 for single filersLess than $93,000 for families113526 Tax Prep, Tax, Bronx, Services, Community, Tax services, IRS, Free
DTSTAMP:20260423T111235
DTSTART:20260328T110000
DTEND:20260328T153000
LOCATION:CUNY on The Concourse
SUMMARY;LANGUAGE=en-us:VITA Free Tax Prep Services at CUNY on the Concourse 
UID:9898966820326ca2e0d0be4293b41e04@lehman.edu
END:VEVENT
END:VCALENDAR
