BEGIN:VCALENDAR
VERSION:2.0
X-WR-CALNAME:EventsCalendar
BEGIN:VEVENT
CATEGORIES:Event Category,Admissions,Event Category,CUNY,Event Category,Information Session,Event Type,Information Session,Schools,School of Health Sciences, Human Services &amp; Nursing,Audience,Alumni,Audience,Faculty,Audience,Graduate Students,Audience,Parents,Audience,Prospective Students,Audience,Staff,Audience,Students,Audience,Transfer Students,Audience,Visitors,Featured,Yes
DESCRIPTION:The&amp;nbsp;M.A. in Health Education and Promotion&amp;nbsp;is a 33-credit graduate program that prepares students for careers as health educators in academic, clinical, community, and corporate settings. The program equips graduates with the skills to design, implement, and evaluate health initiatives, with career opportunities in health advocacy, program planning, policy analysis, and administration. Graduates are eligible to sit for the CHES or MCHES national certification exams.&amp;nbsp; &amp;nbsp;112778 Health Education and promotion, health, health education
DTSTAMP:20260423T071932
DTSTART:20260312T180000
DTEND:20260312T190000
LOCATION:Online
SUMMARY;LANGUAGE=en-us:Health Education &amp;amp; Promotion M.A. Information Session
UID:c8a37af237bd931f267914caddc7310e@lehman.edu
END:VEVENT
END:VCALENDAR
