BEGIN:VCALENDAR
VERSION:2.0
X-WR-CALNAME:EventsCalendar
BEGIN:VEVENT
CATEGORIES:Event Category,Students,Event Type,Reception,Audience,Faculty,Audience,Students
DESCRIPTION:Reentry@Lehman and the new LITE Program welcome you to the ribbon cutting for their new shared office in T3, Room 113 on Wednesday, March 11 from 2:00 - 5:00 pm. LITE (Lehman&amp;rsquo;s Initiative for Tutoring and Empowerment)&amp;nbsp;is a student-centered mentoring and academic support program at Lehman College that partners closely with the Department of Probation to provide tutoring, coaching, and enrichment opportunities for young people impacted by the justice system. By combining individualized academic support, positive mentorship, and strong community partnerships, LITE empowers participants to build confidence, strengthen educational outcomes, and pursue meaningful pathways toward college, careers, and long-term success. In coordination with our Committee, this office will be a welcoming place for justice impacted students and friends to drink coffee, hold meetings and relax at Lehman.&amp;nbsp;112410 reentry lite ribbon cutting
DTSTAMP:20260423T070613
DTSTART:20260311T140000
DTEND:20260311T170000
LOCATION:T-3 Building
SUMMARY;LANGUAGE=en-us:Reentry@Lehman/LITE Office Ribbon Cutting
UID:4b6e76e07a0d3a0b446268a39f96e61d@lehman.edu
END:VEVENT
END:VCALENDAR
