BEGIN:VCALENDAR
VERSION:2.0
X-WR-CALNAME:EventsCalendar
BEGIN:VEVENT
CATEGORIES:Event Category,Career Development,Event Category,Information Session,Event Category,Networking,Event Type,Information Session,Audience,Alumni,Audience,Students
DESCRIPTION:Lehman College&amp;rsquo;s Job &amp;amp; Internship Fair provides students and alumni with the opportunity to connect directly with employers recruiting for full-time, part-time, and internship opportunities. Organizations from a variety of industries will be on campus to share information about their companies, discuss open roles, and offer insights into career paths and hiring processes. This event is an excellent opportunity to network with recruiters, practice professional communication skills, and learn more about industries of interest. Attendees are encouraged to bring copies of their resume, dress professionally, and come prepared to engage with employers. &amp;nbsp;111832 Job, Internships, Fair
DTSTAMP:20260423T083143
DTSTART:20260310T110000
DTEND:20260310T150000
LOCATION:APEX
SUMMARY;LANGUAGE=en-us:Lehman College 2026 Job &amp;amp; Internship Fair
UID:9644300c4c5c091b6d2f5d3f63c29ae0@lehman.edu
END:VEVENT
END:VCALENDAR
