BEGIN:VCALENDAR
VERSION:2.0
X-WR-CALNAME:EventsCalendar
BEGIN:VEVENT
CATEGORIES:Event Category,Workshops,Event Type,Webinar,Audience,Faculty,Audience,Staff,Featured,Yes
DESCRIPTION:At this critical time, learning how to support our community is essential to promote wellbeing and safety. Please join us for &quot;From Bystanders to Upstanders:&amp;nbsp;LGBTQIA+ Empowerment, Allyship, and Bullying Intervention&quot; on February 3, 2026, at 1pm. This workshop presented by the Hetrick-Martin Institute will discuss how to become an upstander to support our community.&amp;nbsp;111705 upstander, empowerment, allyship
DTSTAMP:20260423T081132
DTSTART:20260203T130000
DTEND:20260203T143000
LOCATION:Online
SUMMARY;LANGUAGE=en-us:From Bystanders to Upstanders: LGBTQIA+ Empowerment, Allyship, and Bullying Intervention
UID:953de583fca4c17eb0fb14b36ab1afa8@lehman.edu
END:VEVENT
END:VCALENDAR
