BEGIN:VCALENDAR
VERSION:2.0
X-WR-CALNAME:EventsCalendar
BEGIN:VEVENT
CATEGORIES:Event Category,Networking,Event Type,Information Session,Audience,Alumni,Audience,Students
DESCRIPTION:Connect with the Morgan Stanley recruitment and leadership team. They will provide you with inside tips and strategies on how to land your next internship or job opportunity! Don&amp;rsquo;t miss your chance to build a one-on-one connection with Morgan Stanley! All Lehman students and alumni are welcome! There is limited space for this event &amp;ndash; RSVP and reserve your spot on Handshake ASAP! Have Questions? Email nicole.allen1@lehman.cuny.edu110986 Recruitment, Leadership, Information Event
DTSTAMP:20260423T071831
DTSTART:20260203T130000
DTEND:20260203T160000
LOCATION:Student Life Building
SUMMARY;LANGUAGE=en-us:Morgan Stanley Career &amp;amp; Networking Event 
UID:a55f5686b4d1b5be660f49127232e8ac@lehman.edu
END:VEVENT
END:VCALENDAR
