BEGIN:VCALENDAR
VERSION:2.0
X-WR-CALNAME:EventsCalendar
BEGIN:VEVENT
CATEGORIES:Event Category,Admissions,Event Category,CUNY,Event Category,Information Session,Event Type,Information Session,Schools,School of Arts &amp; Humanities,Audience,Alumni,Audience,Faculty,Audience,Graduate Students,Audience,Parents,Audience,Prospective Students,Audience,Staff,Audience,Students,Audience,Transfer Students,Audience,Visitors,Featured,Yes
DESCRIPTION:Discover Lehman&amp;rsquo;s Master of Arts in English, with tracks in Literature, Creative Writing, Writing and Rhetoric, and Professional Writing. Meet faculty, explore career pathways, and see how the program supports your academic and professional growth.&amp;nbsp;109919 Information Session, Graduate School, Graduate Admissions, English, literacy, writing, poetry
DTSTAMP:20260423T070848
DTSTART:20260506T173000
DTEND:20260506T183000
LOCATION:Online
SUMMARY;LANGUAGE=en-us:English M.A. Information Session 
UID:d17bc66363cb37350ec3eea2c9e34d4b@lehman.edu
END:VEVENT
END:VCALENDAR
