BEGIN:VCALENDAR
VERSION:2.0
X-WR-CALNAME:EventsCalendar
BEGIN:VEVENT
CATEGORIES:Event Category,Admissions,Event Category,CUNY,Event Category,Information Session,Event Type,Information Session,Schools,School of Health Sciences, Human Services &amp; Nursing,Audience,Alumni,Audience,Faculty,Audience,Graduate Students,Audience,Parents,Audience,Prospective Students,Audience,Staff,Audience,Students,Audience,Transfer Students,Audience,Visitors,Featured,Yes
DESCRIPTION:Explore Lehman College Masters of Health Services Administration program. This is a 30-credit program 100% online with no-campus requirement, designed to help you excel in management positions within hospital systems, community-based clinics, non-profit organizations to achieve organizational health and well-being, improved health outcomes for patients, and enhanced community resources. Meet the program director, explore admissions, and get details on tuition at this information session.109478 Masters of Health Services Administration program, hospital systems, community-based clinics, non-profit organizations, organizational health, well-being, community resources
DTSTAMP:20260423T070710
DTSTART:20260105T180000
DTEND:20260105T193000
LOCATION:Online
SUMMARY;LANGUAGE=en-us:Health Services Administration M.S. Information Session 
UID:b65634612b93a9e5f1b9a858a6ee2f42@lehman.edu
END:VEVENT
END:VCALENDAR
