BEGIN:VCALENDAR
VERSION:2.0
X-WR-CALNAME:EventsCalendar
BEGIN:VEVENT
CATEGORIES:Event Category,Admissions,Event Category,CUNY,Event Category,Information Session,Event Type,Information Session,Schools,School of Education,Audience,Alumni,Audience,Faculty,Audience,Graduate Students,Audience,Parents,Audience,Prospective Students,Audience,Staff,Audience,Students,Audience,Visitors,Featured,Yes
DESCRIPTION:Explore Lehman&amp;rsquo;s&amp;nbsp;M.S.Ed. in Childhood Education (Grades 1&amp;ndash;6). Prepare&amp;nbsp;to become a skilled teacher in integrated, inclusive, bilingual, and multicultural classrooms. Lehman&amp;rsquo;s program offers initial and professional certification in New York State through rigorous coursework, certification exams, and a supervised teaching internship.&amp;nbsp; &amp;nbsp;109477 Information Session, Graduate School, Graduate Admissions, childhood Education, elementary education
DTSTAMP:20260423T071932
DTSTART:20260319T180000
DTEND:20260319T190000
LOCATION:Online
SUMMARY;LANGUAGE=en-us:Childhood Education Information Session
UID:c23914acc6f29e91b0539518fb39f7f6@lehman.edu
END:VEVENT
END:VCALENDAR
