BEGIN:VCALENDAR
VERSION:2.0
X-WR-CALNAME:EventsCalendar
BEGIN:VEVENT
CATEGORIES:Event Category,Admissions,Event Category,CUNY,Event Category,Information Session,Event Type,Information Session,Schools,School of Health Sciences, Human Services &amp; Nursing,Audience,Alumni,Audience,Graduate Students,Audience,Parents,Audience,Prospective Students,Audience,Students,Audience,Transfer Students,Audience,Visitors,Featured,Yes
DESCRIPTION:Join us to explore Lehman College&amp;rsquo;s online M.S.Ed. in Recreation Education. Learn how this flexible program prepares you for careers in leisure services with specializations in Recreation and Park Administration, Therapeutic Recreation, or Physical Education Teaching.&amp;nbsp;109475 Information Session, Graduate School, Graduate Admissions, physical therapy, park recreation
DTSTAMP:20260423T070742
DTSTART:20260325T170000
DTEND:20260325T180000
LOCATION:Online
SUMMARY;LANGUAGE=en-us:Recreation Education Information Session
UID:6fac4693cb2da62e7cce9b7936b75162@lehman.edu
END:VEVENT
END:VCALENDAR
