BEGIN:VCALENDAR
VERSION:2.0
X-WR-CALNAME:EventsCalendar
BEGIN:VEVENT
CATEGORIES:Event Category,Admissions,Event Category,CUNY,Event Category,Information Session,Event Type,Information Session,Schools,School of Education,Audience,Alumni,Audience,Faculty,Audience,Graduate Students,Audience,Parents,Audience,Prospective Students,Audience,Staff,Audience,Students,Audience,Visitors,Featured,Yes
DESCRIPTION:Discover&amp;nbsp;graduate&amp;nbsp;programs in Special Education at Lehman College. Explore options&amp;nbsp;in&amp;nbsp;Childhood, Early Childhood, and Bilingual Special Education, including dual-certification pathways. Connect with faculty, learn about admissions, and find the program that fits your goals.&amp;nbsp;109472 Information Session, Graduate School, Graduate Admissions, Special Education, special Ed., Education
DTSTAMP:20260424T070444
DTSTART:20260305T180000
DTEND:20260305T190000
LOCATION:Online
SUMMARY;LANGUAGE=en-us:Special Education Childhood M.S.Ed. Information Session 
UID:6a6821ac0797a15af0b7a78908c1c9de@lehman.edu
END:VEVENT
END:VCALENDAR
