BEGIN:VCALENDAR
VERSION:2.0
X-WR-CALNAME:EventsCalendar
BEGIN:VEVENT
CATEGORIES:Event Category,Admissions,Event Category,CUNY,Event Category,Information Session,Event Type,Information Session,Schools,School of Business,Audience,Alumni,Audience,Faculty,Audience,Graduate Students,Audience,Parents,Audience,Prospective Students,Audience,Staff,Audience,Students,Audience,Visitors,Featured,Yes
DESCRIPTION:Advance your career with Lehman College&amp;rsquo;s Master of Science in Business (MSB). Choose from flexible, career-focused specializations in Accounting, Finance (hybrid), HR Management, International Business, and Marketing. Most programs are fully online and designed to give you the skills and knowledge to succeed in today&amp;rsquo;s business world.&amp;nbsp;109468 Information Session, Graduate School, Graduate Admissions, Business, Business administration, business marketing, business administration, international business, business finance, Finance, Marketing, accounting
DTSTAMP:20260423T070812
DTSTART:20251029T173000
DTEND:20251029T183000
LOCATION:Online
SUMMARY;LANGUAGE=en-us:Business M.S. Information Session 
UID:68fcc2aa1b099ba1e122b6e1bccb5a9d@lehman.edu
END:VEVENT
END:VCALENDAR
