BEGIN:VCALENDAR
VERSION:2.0
X-WR-CALNAME:EventsCalendar
BEGIN:VEVENT
CATEGORIES:Event Category,Admissions,Event Category,CUNY,Event Category,Information Session,Event Type,Information Session,Schools,School of Natural &amp; Social Sciences,Audience,Alumni,Audience,Faculty,Audience,Graduate Students,Audience,Parents,Audience,Prospective Students,Audience,Staff,Audience,Students,Audience,Visitors,Featured,Yes
DESCRIPTION:Advance Your Studies with Lehman College&amp;rsquo;s M.A. in Mathematics.&amp;nbsp;Discover how&amp;nbsp;this&amp;nbsp;program&amp;nbsp;provides rigorous, flexible training for diverse academic and professional goals. Meet faculty, explore the application process, and learn about tuition at this&amp;nbsp;information session.&amp;nbsp;109466 Information Session, Graduate School, Graduate Admissions, Mathematics, math. calculus, statitics
DTSTAMP:20260423T070925
DTSTART:20260415T180000
DTEND:20260415T190000
LOCATION:Online
SUMMARY;LANGUAGE=en-us:Mathematics (Pure Math) M.A. Information Session 
UID:b45fdb7964fe305c45f7251c9dff5317@lehman.edu
END:VEVENT
END:VCALENDAR
