BEGIN:VCALENDAR
VERSION:2.0
X-WR-CALNAME:EventsCalendar
BEGIN:VEVENT
CATEGORIES:Event Category,Admissions,Event Category,CUNY,Event Category,Information Session,Event Type,Information Session,Audience,Alumni,Audience,Faculty,Audience,Graduate Students,Audience,Parents,Audience,Prospective Students,Audience,Staff,Audience,Students,Audience,Visitors
DESCRIPTION:Join us to learn about Lehman College&amp;rsquo;s M.S. in Clinical Mental Health Counseling, a two-year online program leading to New York State LMHC licensure. This 60-credit, cohort-based degree prepares graduates for careers in private practice, healthcare, community organizations, and beyond. Meet with faculty and gain insight into admissions requirements and tuition details.&amp;nbsp; &amp;nbsp;109460 Information Session, Graduate School, Graduate Admissions, Counseling, Clinical mental health, mental health, psychology, counseling settings, mental health disorders, mental health services
DTSTAMP:20260423T113602
DTSTART:20260303T180000
DTEND:20260303T200000
LOCATION:Online
SUMMARY;LANGUAGE=en-us:Counselor Ed. Clinical Mental Health M.S. Information Session 
UID:6a893a0dcb7307e9697dadc7f7df3192@lehman.edu
END:VEVENT
END:VCALENDAR
