BEGIN:VCALENDAR
VERSION:2.0
X-WR-CALNAME:EventsCalendar
BEGIN:VEVENT
CATEGORIES:Event Category,Admissions,Event Category,CUNY,Event Category,Information Session,Event Type,Information Session,Schools,School of Natural &amp; Social Sciences,Audience,Alumni,Audience,Faculty,Audience,Graduate Students,Audience,Parents,Audience,Prospective Students,Audience,Staff,Audience,Students,Audience,Visitors,Featured,Yes
DESCRIPTION:Join us to explore Lehman College&amp;rsquo;s flexible 36-credit Computer Science program, with electives in AI, Machine Learning, Software Engineering, and more. Discover research opportunities and degree completion options designed for career starters, professionals, and career changers, offering the right path for you.&amp;nbsp;109458 Information Session, Graduate School, Graduate Admissions, master&amp;rsquo;s degree, masters, advanced certificate, Computer science, Computer Information Systems, graduate program in Computer Science, Computer Applications, computer scientists
DTSTAMP:20260423T070702
DTSTART:20260323T170000
DTEND:20260323T180000
LOCATION:Online
SUMMARY;LANGUAGE=en-us:Computer Science M.S. Information Session 
UID:edf2ca11b5111f58e1ff7f8fe3cac7ce@lehman.edu
END:VEVENT
END:VCALENDAR
