BEGIN:VCALENDAR
VERSION:2.0
X-WR-CALNAME:EventsCalendar
BEGIN:VEVENT
CATEGORIES:Event Category,Faculty,Event Category,Staff,Event Category,Students,Event Type,Information Session,Event Type,Lectures,Event Type,Webinar,Audience,Faculty,Audience,Staff,Audience,Students
DESCRIPTION:Naliza Sadik, manager of the Office of Education Technology in the School of Education at Lehman College will talk to us about how she supports the success of students and teacher candidates through technology-driven initiatives, labs, and workshops. About Teaching and Learning with Digital Technology (a.k.a. November Tech Month) is a virtual fall 2025 series by the Center for Teaching and Learning that offers awareness, demonstrations, relevant use cases, and scholarly conversations about teaching and learning with digital tools for students, faculty, and staff at Lehman College.107986 Naliza Sadik, School of Education, Lehman College, workshops, labs, teaching and learning, digital technology
DTSTAMP:20260423T070746
DTSTART:20251121T120000
DTEND:20251121T130000
LOCATION:Online
SUMMARY;LANGUAGE=en-us:Fireside Chat with Naliza Sadik: On the Office of Education Technology 
UID:0eac317d4cdf3f78110b322f424bc956@lehman.edu
END:VEVENT
END:VCALENDAR
