BEGIN:VCALENDAR
VERSION:2.0
X-WR-CALNAME:EventsCalendar
BEGIN:VEVENT
CATEGORIES:Event Category,Faculty,Event Category,Staff,Event Category,Students,Event Type,Information Session,Event Type,Lectures,Event Type,Webinar,Audience,Faculty,Audience,Staff,Audience,Students
DESCRIPTION:Librarians Stacy Katz and Robin Miller lead this session on&amp;nbsp;Manifold&amp;nbsp;and&amp;nbsp;Pressbooks, open-source digital publishers featuring use cases for how student, faculty, and staff can publish capstone projects, dissertations, articles, create journals, and course projects. Teaching and Learning with Digital Technology (a.k.a. November Tech Month) is a virtual fall 2025 series by the Center for Teaching and Learning that offers awareness, demonstrations, relevant use cases, and scholarly conversations about teaching and learning with digital tools for students, faculty, and staff at Lehman College.107984 Stacy Katz, Robin Miller, Manifold, Pressbooks, dissertations, articles, journals, digital, teaching and learning, digital technology
DTSTAMP:20260423T075915
DTSTART:20251114T120000
DTEND:20251114T131500
LOCATION:Online
SUMMARY;LANGUAGE=en-us:Open-Source Digital Publishing Platforms at CUNY
UID:8361fa4ac62438088cab94831d1b80e2@lehman.edu
END:VEVENT
END:VCALENDAR
