BEGIN:VCALENDAR
VERSION:2.0
X-WR-CALNAME:EventsCalendar
BEGIN:VEVENT
CATEGORIES:Event Category,Faculty,Event Category,Staff,Event Category,Students,Event Type,Information Session,Event Type,Lectures,Event Type,Webinar,Audience,Faculty,Audience,Staff,Audience,Students
DESCRIPTION:Library faculty member, Dr. Janet Munch, leads this session on archives, special collections with exemplars for class projects, capstone projects, and more. This session will also feature a brief overview from the Center about digital archival tools for student projects and research. Teaching and Learning with Digital Technology (a.k.a. November Tech Month) is a virtual fall 2025 series by the Center for Teaching and Learning that offers awareness, demonstrations, relevant use cases, and scholarly conversations about teaching and learning with digital tools for students, faculty, and staff at Lehman College.107983 Janet Munch, capstone projects, digital archival, research, digital, teaching and learning, digital technology
DTSTAMP:20260423T071950
DTSTART:20251113T120000
DTEND:20251113T130000
LOCATION:Online
SUMMARY;LANGUAGE=en-us:Archives &amp;amp; Special Collections, and Digital Archival Tools
UID:4621d468c270af59fd4e68beeacd44f8@lehman.edu
END:VEVENT
END:VCALENDAR
