BEGIN:VCALENDAR
VERSION:2.0
X-WR-CALNAME:EventsCalendar
BEGIN:VEVENT
CATEGORIES:Event Category,Admissions,Event Category,CUNY,Event Category,Information Session,Event Type,Information Session,Audience,Alumni,Audience,Graduate Students,Audience,Prospective Students,Audience,Students
DESCRIPTION:The Office of Graduate Admissions hosts regular, program-specific information sessions for many of our graduate programs. Our Graduate Information Sessions are designed to highlight the benefits and value of a Lehman College graduate degree and provide prospective applicants with an overview of our graduate programs. It is also an opportunity to meet with faculty and learn more about the application process, tuition costs, and transfer credits.&amp;nbsp;&amp;nbsp; Our Programs and Degrees page offers a listing of graduate programs and gives you access to the full course description and website for your intended program.&amp;nbsp;105615 &#039;Information Session&#039;, &#039;Graduate School&#039;, &#039;Graduate Admissions&#039;, &#039;master&amp;rsquo;s degree&#039;, &#039;masters&#039;, &#039;advanced certificate&#039;
DTSTAMP:20260423T071956
DTSTART:20251006T180000
DTEND:20251006T190000
LOCATION:Online
SUMMARY;LANGUAGE=en-us:Speech Language Pathology M.A. Information Session 
UID:d61c4f3fc03f2c2fc8623e2c39aef960@lehman.edu
END:VEVENT
END:VCALENDAR
