BEGIN:VCALENDAR
VERSION:2.0
X-WR-CALNAME:EventsCalendar
BEGIN:VEVENT
CATEGORIES:Event Category,Arts &amp; Culture,Event Category,Concerts,Event Category,Music,Event Category,Performing Arts &amp; Film,Event Type,Concert,Audience,Alumni,Audience,Faculty,Audience,Staff,Audience,Students,Audience,Transfer Students
DESCRIPTION:SATURDAY, MARCH 28, 2026 at 8PMLAVOE EN SINF&amp;Oacute;NICAFeaturing The H&amp;eacute;ctor Lavoe Band Starring Raul CarbonellLehman Center For Performing Arts is proud to present LAVOE EN SINF&amp;Oacute;NICA. An incredible show that reunites award-winning actor and vocalist Ra&amp;uacute;l Carbonell, with his legendary, career-defining portrayal of salsa icon H&amp;eacute;ctor Lavoe,in the iconic musical &amp;iquest;Qui&amp;eacute;n Mat&amp;oacute; a H&amp;eacute;ctor Lavoe? That landmark production became a cultural phenomenon, hailed by critics and audiences alike.&amp;nbsp; Carbonell performed 88 shows of &amp;iquest;Qui&amp;eacute;n Mat&amp;oacute; a H&amp;eacute;ctor Lavoe? in New York City from 1999 to 2000. All ending in standing ovations and leading him to win the ACE award for best leading actor. In 2006, Carbonell performed in and directed the production in Puerto Rico, followed by a successful Miami run in 2007. Most recently, in 2023, he once again reprised the role&amp;mdash;also serving as director&amp;mdash;at the Centro de Bellas Artes de Santurce, reaffirming his deep artistic connection to Lavoe&amp;rsquo;s legacy. Now, in this special theatrical concert event, Carbonell brings Lavoe&amp;rsquo;s music and story to life once more - backed by the legendary Hector Lavoe Orchestra and accompanied by the beautiful musical sounds of a Symphonic Ensemble. Come see and hear Lavoe&amp;rsquo;s journey from Ponce, Puerto Rico to the vibrant dancehalls of New York City. A journey that unfolds timeless anthems that define salsa music till this day.&amp;nbsp; This one-night-only event elevates Lavoe&amp;rsquo;s timeless repertoire through orchestral arrangements, performed alongside the authentic sound of the legendary H&amp;eacute;ctor Lavoe Band and Symphony. Audiences will relive classics like &amp;ldquo;Mi Gente,&amp;rdquo; &amp;ldquo;Peri&amp;oacute;dico de Ayer,&amp;rdquo; &amp;ldquo;El Todopoderoso,&amp;rdquo; and many more. One night only. One legend honored. Witness Raul Carbonell shine as H&amp;eacute;ctor Lavoe in Lavoe en Sinf&amp;oacute;nica.104391 &#039;hector lavoe&#039;, &#039;tribute&#039;, &#039;music&#039;, &#039;live music,&#039; &#039;concert&#039;,
DTSTAMP:20260423T075900
DTSTART:20260328T200000
DTEND:20260328T230000
LOCATION:Concert Hall
SUMMARY;LANGUAGE=en-us:Lavoe en Sinf&amp;ograve;nica
UID:3801dea63e86a82b41cc1d4fc39f2b96@lehman.edu
END:VEVENT
END:VCALENDAR
