BEGIN:VCALENDAR
VERSION:2.0
X-WR-CALNAME:EventsCalendar
BEGIN:VEVENT
CATEGORIES:Event Category,Concerts,Event Type,Concert,Audience,Alumni,Audience,Faculty,Audience,Parents,Audience,Staff,Audience,Students
DESCRIPTION:A heartfelt tribute to the legendary Johnny Pacheco, celebrating his timeless contributions to salsa and Latin music. The evening will feature a live ensemble performing his most iconic compositions&amp;mdash;expect electrifying rhythms, vibrant horn lines, and rich choreography that reflect Pacheco&amp;rsquo;s enduring legacy.&amp;nbsp;  Special guest artists will be announced soon, adding their own flair to honor his trailblazing spirit. It&amp;rsquo;s a night of musical excellence, cultural pride, and unforgettable performances&amp;mdash;all in homage to the maestro himself. 103584 &#039;johnny pacheco&#039;, &#039;music&#039;, &#039;live music&#039;, &#039;orchestra&#039;, &#039;salsa&#039;, &#039;instruments&#039;, &#039;flute&#039;, &#039;boricua&#039;,
DTSTAMP:20260423T071939
DTSTART:20260221T200000
DTEND:20260221T230000
LOCATION:Concert Hall
SUMMARY;LANGUAGE=en-us:Tribute to Johnny Pacheco
UID:188c36968d14153e907ac9d86f3f0124@lehman.edu
END:VEVENT
END:VCALENDAR
